BEGIN:VCALENDAR
VERSION:2.0
PRODID:-//Cilentamente - ECPv6.9.0//NONSGML v1.0//EN
CALSCALE:GREGORIAN
METHOD:PUBLISH
X-ORIGINAL-URL:https://cilentamente.info
X-WR-CALDESC:Eventi per Cilentamente
REFRESH-INTERVAL;VALUE=DURATION:PT1H
X-Robots-Tag:noindex
X-PUBLISHED-TTL:PT1H
BEGIN:VTIMEZONE
TZID:UTC
BEGIN:STANDARD
TZOFFSETFROM:+0000
TZOFFSETTO:+0000
TZNAME:UTC
DTSTART:20200101T000000
END:STANDARD
END:VTIMEZONE
BEGIN:VEVENT
DTSTART;TZID=UTC:20210717T080000
DTEND;TZID=UTC:20210717T170000
DTSTAMP:20260419T230714
CREATED:20210717T221909Z
LAST-MODIFIED:20210717T221909Z
UID:2183-1626508800-1626541200@cilentamente.info
SUMMARY:
DESCRIPTION:
URL:https://cilentamente.info/event/2183/
END:VEVENT
BEGIN:VEVENT
DTSTART;VALUE=DATE:20200823
DTEND;VALUE=DATE:20200824
DTSTAMP:20260419T230714
CREATED:20200805T091523Z
LAST-MODIFIED:20200805T092558Z
UID:2078-1598140800-1598227199@cilentamente.info
SUMMARY:Piana delle Fate
DESCRIPTION:Percorso ad anello – Lunghezza km 9\,5 \nDislivello: 200 metri circa\nDifficoltà: medio/facile \nTempo complessivo: 5 ore circa \nSi consiglia: scarpe tecniche da trekking\, abbigliamento a strati\, giacca a vento\, eventuale ricambio\, impermeabile e bastoncini da trekking (suggeriti)\, 1\,5 lt di acqua a persona \nPartenza da Celso – Chiesa dell’Assunta – Ore 8:00
URL:https://cilentamente.info/event/piana-delle-fate-2/
LOCATION:Celso\, Celso\, Celso\, Salerno\, 84068\, Italia
CATEGORIES:Trekking,Turistica
ORGANIZER;CN="Cilentamente":MAILTO:cilentamente@gmail.com
END:VEVENT
BEGIN:VEVENT
DTSTART;VALUE=DATE:20200822
DTEND;VALUE=DATE:20200823
DTSTAMP:20260419T230714
CREATED:20200805T090619Z
LAST-MODIFIED:20200805T090619Z
UID:2076-1598054400-1598140799@cilentamente.info
SUMMARY:Anello dei Borghi
DESCRIPTION:Percorso ad anello 11 km.\nDislivello 205 m.\nDifficoltà Turistica\nTempo complessivo 5 h \nConsigliati : scarpe e bastoncini da trekking\, abbigliamento comodo a strati\, giacca antivento\,\ncappello e occhiali da sole \,almeno 1\,5 litri d’acqua a persona \nPartenza da Pollica – Convento San Francesco – ore 16:30
URL:https://cilentamente.info/event/anello-dei-borghi-2/
LOCATION:Pollica\, Pollica\, (SA)\, 84068\, Italia
CATEGORIES:Trekking,Turistica
ORGANIZER;CN="Cilentamente":MAILTO:cilentamente@gmail.com
END:VEVENT
BEGIN:VEVENT
DTSTART;VALUE=DATE:20200816
DTEND;VALUE=DATE:20200817
DTSTAMP:20260419T230714
CREATED:20200805T085950Z
LAST-MODIFIED:20200805T102504Z
UID:2073-1597536000-1597622399@cilentamente.info
SUMMARY:Pozzo dell'uva nera
DESCRIPTION:Percorso ad anello 7 km.\nDislivello positivo 84m.\nDifficoltà Turistica\nTempo complessivo 4 h \nConsigliati : scarpe e bastoncini da trekking\, abbigliamento comodo a strati\, giacca antivento\,\ncappello e occhiali da sole \,almeno 1\,5 litri d’acqua a persona \nPartenza da Pioppi – Porto del Fico – ore 8:00
URL:https://cilentamente.info/event/pozzo-delluva-nera-2/
LOCATION:Pioppi\, Porto del Fico\, Pioppi\, Salerno\, 84068\, Italia
CATEGORIES:Turistica
ORGANIZER;CN="Cilentamente":MAILTO:cilentamente@gmail.com
END:VEVENT
BEGIN:VEVENT
DTSTART;VALUE=DATE:20200815
DTEND;VALUE=DATE:20200816
DTSTAMP:20260419T230714
CREATED:20200805T085410Z
LAST-MODIFIED:20200805T085410Z
UID:2071-1597449600-1597535999@cilentamente.info
SUMMARY:Da San Mauro a Stella Cilento
DESCRIPTION:Percorso solo Andata di circa 7 km\nDIslivello di circa 400 mt.\nDifficoltà escursionistica: medio /facile \nTempo complessivo 4 h circa\nTassativo : scarpe e bastoncini da trekking\, abbigliamento comodo a strati\, giacca antivento\,\nalmeno 1\,5 litri d’acqua a persona. \nPartenza da San Mauro CIlento – Vallone Cupo – ore 8:00
URL:https://cilentamente.info/event/da-san-mauro-a-stella-cilento/
LOCATION:San Mauro Cilento\, San Mauro Cilento\, Salerno\, 84070\, Italia
CATEGORIES:Trekking,Turistica
ORGANIZER;CN="Cilentamente":MAILTO:cilentamente@gmail.com
END:VEVENT
BEGIN:VEVENT
DTSTART;VALUE=DATE:20200809
DTEND;VALUE=DATE:20200810
DTSTAMP:20260419T230714
CREATED:20200805T082734Z
LAST-MODIFIED:20200805T084404Z
UID:2069-1596931200-1597017599@cilentamente.info
SUMMARY:Il colle della Sala
DESCRIPTION:Il Colle della Sala è un piccolo rilievo sul mare a 343 m s.l.m. appartenente al comune di San Mauro Cilento. \nPartendo dalla chiesa madre a metà tra i borghi di Casalsottano e Casalsoprano incamminandosi lungo la strada provinciale si arriva a Casalsottano dove percorrendo tutto il suo centro storico si sbucherà sulla strada comunale caratterizzata da orti\, uliveti\, capperi\, mirto\, lentisco\, agave e tante altre specie della macchia mediterranea e fauna locale. \nLungo questa passeggiata su asfalto il panorama è costante passando dallo skyline dei piccoli colli\, con il Monte della Stella alle spalle fino ad aprirsi sull’orizzonte infinito del mare e la vista dall’alto di Acciaroli ad est e Agnone ad ovest. \nSulla Sala è possibile incontrare resti di abitati longobardi dal quale pare provenire il suo stesso toponimo\, luogo antico probabilmente scelto per la sua capacità visiva e difensiva. \nContinuando si lascia la strada asfaltata per percorrere meno di 100 m con un dislivello negativo di 66 m per scendere lungo una mulattiera sterrata che ci porterà alla piccola Chiesetta della Madonna della Sala di probabile costruzione bizantina. \nEd è qui che circondati da un vecchio rudere\, alberi di fichi\,mandorli e uliveti è possibile sostare per il ristoro o l’osservazione di un suggestivo tramonto prima di far ritorno sulla strada dell’andata\, in alternativa con mezzo a motore . \nQuella della Sala è una passeggiata adatta a tutti che si presta per escursioni anche notturne dove è possibile assistere a suggestivi crepuscoli ed albe lunari. \nCaratteristiche del percorso:\nPercorso andata e ritorno 4\,5 km.\nDislivello positivo 90 m.\nDifficoltà Turistica\nTempo complessivo 3 h \nConsigliati : scarpe e bastoncini da trekking\, abbigliamento comodo a strati\, giacca antivento\, almeno 1\,5 litri d’acqua a persona. \nPartenza da San Mauro CIlento – Casal Sottano – ore 18:30
URL:https://cilentamente.info/event/il-colle-della-sala/
LOCATION:San Mauro Cilento\, San Mauro Cilento\, Salerno\, 84070\, Italia
CATEGORIES:Turistica
ORGANIZER;CN="Cilentamente":MAILTO:cilentamente@gmail.com
END:VEVENT
BEGIN:VEVENT
DTSTART;VALUE=DATE:20200808
DTEND;VALUE=DATE:20200809
DTSTAMP:20260419T230714
CREATED:20200805T082301Z
LAST-MODIFIED:20200805T082301Z
UID:2065-1596844800-1596931199@cilentamente.info
SUMMARY:Marina di Canniclo
DESCRIPTION:Percorso ad anello di circa 10 km. \nDifficoltà: facile. \nDislivello di circa 230 mt. \nTempo complessivo 4 h circa\nTassativo : scarpe e bastoncini da trekking\, abbigliamento comodo a strati\, giacca antivento\,\nalmeno 1\,5 litri d’acqua a persona. \nPartenza da Acciaroli – Porto – Ore 16:30
URL:https://cilentamente.info/event/marina-di-canniclo/
LOCATION:Acciaroli\, Porto di Acciaroli\, Acciaroli\, Salerno\, 84068\, Italia
CATEGORIES:Turistica
ORGANIZER;CN="Cilentamente":MAILTO:cilentamente@gmail.com
END:VEVENT
BEGIN:VEVENT
DTSTART;VALUE=DATE:20200802
DTEND;VALUE=DATE:20200803
DTSTAMP:20260419T230714
CREATED:20200805T075953Z
LAST-MODIFIED:20200805T075953Z
UID:2063-1596326400-1596412799@cilentamente.info
SUMMARY:Monte della Stella
DESCRIPTION:Il Monte della Stella sorge a pochi chilometri dalla costa nel bel mezzo del Cilento Antico tra le due città greco/romane di Paestum e Velia. \nA circa 800 m s.l.m. incontriamo il comune di San Mauro Cilento\, partendo dalla sua piazza comunale e incamminandosi lungo “salita Serra” tra antichi palazzi e vecchie abitazioni si arriva al primo sentiero che si inerpica verso la vetta. Da qui è possibile seguire un percorso ad anello di 7\,5 km circa di cui i primi 3\,5 km sono in salita e i restanti in discesa affrontando un dislivello positivo di 400 m\, tra sentieri panoramici vista mare e boschi di lecci\, castagni\, ontani\, aceri\, corbezzoli e diverse varietà di arbusti e piante tipici della macchia mediterranea. \nLungo il tragitto si fa tappa  obbligatoria nell’area sacra delle rocce megalitiche con chiara evidenza antropica risalente al 2000 a.C. e da li si prosegue per la vetta a 1131 m s.l.m. dove si trova ubicata la Cappella/eremo di S.Maria della Stella costruita nel 1362 d.C. e in netto contrasto il moderno castello radar (base civile ENAV) per il controllo dello spazio aereo in Italia. \nQui è possibile sostare presso l’area attrezzata intorno al santuario ed essere eventualmente raggiunti da un mezzo per il rientro. \nIn vetta si può godere di una vista a 360° su tutto il Cilento\, osservando lo skyline di tutti i monti intorno e non solo perché il più delle volte è possibile vedere chiaramente la catena dei lattari e i suoi golfi con Capri e Ischia\, nonché in occasioni fortuite lo Stromboli in Sicilia. \nCaratteristiche del percorso:\nPercorso ad anello 7\,5 km. Dislivello positivo 400 m. Difficoltà Escursionistica \nTempo complessivo 4 h circa\nTassativo : scarpe e bastoncini da trekking\, abbigliamento comodo a strati\, giacca antivento\,\nalmeno 1\,5 litri d’acqua a persona. \nPartenza da San Mauro Cilento – Piano della fontana – Ore 16:30
URL:https://cilentamente.info/event/monte-della-stella-2/
CATEGORIES:Trekking
END:VEVENT
BEGIN:VEVENT
DTSTART;VALUE=DATE:20200726
DTEND;VALUE=DATE:20200727
DTSTAMP:20260419T230714
CREATED:20200722T161608Z
LAST-MODIFIED:20200722T161608Z
UID:2060-1595721600-1595807999@cilentamente.info
SUMMARY:Anello dei Borghi 2 data
DESCRIPTION:Dalle 08:00 alle 12:30 circa.\n? Partenza da Cannicchio.\nIl percorso si svilupperà tra asfalto e vecchie vie comunali facendo tappa di borgo in borgo con la costante panoramica del mare. \nℹ INFORMAZIONI TECNICHE ℹ\nPercorso solo andata – Lunghezza km 5 circa\n? Prevista una navetta per il ritorno\nDislivello negativo: 200 metri circa\nDifficoltà: facile\nDurata: 4 ore circa. \n❌ N.B. REGOLE OBBLIGATORIE:\n• Partenza ore 8\,00\n• Pranzo al sacco proprio\n• Al momento della prenotazione ogni partecipante riceverà un PDF da stampare\, firmare e consegnare al momento dell’incontro\, contenente il manuale “Covid-19”.\n• Distanziamento obbligatorio di almeno 2 metri da ogni partecipante\, esclusione fatta per conviventi e persone dello stesso nucleo familiare durante tutta l’escursione\, in sosta e in movimento.\n• Mascherina obbligatoria da tenere sempre a portata di mano e da indossare solo nei momenti di briefing\, incrocio sul sentiero con altre persone esterne al proprio gruppo.\n• Gel disinfettante.\n• Guanti monouso (non obbligatorio e non necessario se si osservano tutte le regole sopra indicate).\n• Munirsi di scarpe tecniche da trekking (l’utilizzo di altra tipologia di scarpe precluderà la partecipazione per questioni di sicurezza)\, bacchette da trekking (consigliate)\, abbigliamento comodo a strati\, giacca o gilet anti-vento\, cappello/occhiali da sole e almeno 1 litro e mezzo d’acqua per persona\, indumenti di ricambio da portare con se o da tenere in auto (consigliati). ❌\n_______________________________\nPartendo da Cannicchio ci inoltra nella zona detta “U’ MONACO” prima su asfalto e poi su terreno sterrato che pian piano rivela la sua identità di mulattiera\, là dove altri mezzi non arrivano.\nAll’improvviso tra rocce e muretti\, macchia e oliveti appare imponente l’alto campanile della chiesa di San Nicola che ci indica l’arrivo a Galdo\, il quale\, proprio a partire da questo storico edificio\, iniziò il suo sviluppo verso l’alto della collina dove troviamo il “caffè letterario”\, unico ritrovo del paese e poco distante la salita che passando per il punto più alto del borgo scende nella vecchia via comunale che in breve percorrenza ci collega a Celso.\nPer entrare nell’affascinante e magico borgo di Celso si percorre un lungo ponte che finisce sotto l’arco di Palazzo Mazziotti dichiarato monumento nazionale\, per aprirsi nell’omonima piazza dove pare fermarsi il tempo.
URL:https://cilentamente.info/event/anello-dei-borghi-2-data/
LOCATION:Cannicchio\, Cannicchio
END:VEVENT
BEGIN:VEVENT
DTSTART;VALUE=DATE:20200725
DTEND;VALUE=DATE:20200726
DTSTAMP:20260419T230714
CREATED:20200619T141919Z
LAST-MODIFIED:20200722T161450Z
UID:2028-1595635200-1595721599@cilentamente.info
SUMMARY:Anello dei Borghi
DESCRIPTION:Dalle 08:00 alle 12:30 circa.\n? Partenza da Cannicchio.\nIl percorso si svilupperà tra asfalto e vecchie vie comunali facendo tappa di borgo in borgo con la costante panoramica del mare. \nℹ INFORMAZIONI TECNICHE ℹ\nPercorso solo andata – Lunghezza km 5 circa\n? Prevista una navetta per il ritorno\nDislivello negativo: 200 metri circa\nDifficoltà: facile\nDurata: 4 ore circa. \n❌ N.B. REGOLE OBBLIGATORIE:\n• Partenza ore 8\,00\n• Pranzo al sacco proprio\n• Al momento della prenotazione ogni partecipante riceverà un PDF da stampare\, firmare e consegnare al momento dell’incontro\, contenente il manuale “Covid-19”.\n• Distanziamento obbligatorio di almeno 2 metri da ogni partecipante\, esclusione fatta per conviventi e persone dello stesso nucleo familiare durante tutta l’escursione\, in sosta e in movimento.\n• Mascherina obbligatoria da tenere sempre a portata di mano e da indossare solo nei momenti di briefing\, incrocio sul sentiero con altre persone esterne al proprio gruppo.\n• Gel disinfettante.\n• Guanti monouso (non obbligatorio e non necessario se si osservano tutte le regole sopra indicate).\n• Munirsi di scarpe tecniche da trekking (l’utilizzo di altra tipologia di scarpe precluderà la partecipazione per questioni di sicurezza)\, bacchette da trekking (consigliate)\, abbigliamento comodo a strati\, giacca o gilet anti-vento\, cappello/occhiali da sole e almeno 1 litro e mezzo d’acqua per persona\, indumenti di ricambio da portare con se o da tenere in auto (consigliati). ❌\n_______________________________\nPartendo da Cannicchio ci inoltra nella zona detta “U’ MONACO” prima su asfalto e poi su terreno sterrato che pian piano rivela la sua identità di mulattiera\, là dove altri mezzi non arrivano.\nAll’improvviso tra rocce e muretti\, macchia e oliveti appare imponente l’alto campanile della chiesa di San Nicola che ci indica l’arrivo a Galdo\, il quale\, proprio a partire da questo storico edificio\, iniziò il suo sviluppo verso l’alto della collina dove troviamo il “caffè letterario”\, unico ritrovo del paese e poco distante la salita che passando per il punto più alto del borgo scende nella vecchia via comunale che in breve percorrenza ci collega a Celso.\nPer entrare nell’affascinante e magico borgo di Celso si percorre un lungo ponte che finisce sotto l’arco di Palazzo Mazziotti dichiarato monumento nazionale\, per aprirsi nell’omonima piazza dove pare fermarsi il tempo.
URL:https://cilentamente.info/event/anello-dei-borghi/
CATEGORIES:Turistica
ATTACH;FMTTYPE=image/png:https://cilentamente.info/wp-content/uploads/2020/06/anello-dei-borghi.png
ORGANIZER;CN="Cilentamente":MAILTO:cilentamente@gmail.com
END:VEVENT
BEGIN:VEVENT
DTSTART;VALUE=DATE:20200719
DTEND;VALUE=DATE:20200720
DTSTAMP:20260419T230714
CREATED:20200619T141752Z
LAST-MODIFIED:20200619T142929Z
UID:2026-1595116800-1595203199@cilentamente.info
SUMMARY:Pozzo dell'Uva Nera
DESCRIPTION:Percorso ad anello 6 km. Dislivello positivo 176 m. Difficoltà Turistica\nTempo complessivo 4 h \nConsigliati : scarpe e bastoncini da trekking\, abbigliamento comodo a strati\, giacca antivento\,\ncappello e occhiali da sole \,almeno 1\,5 litri d’acqua a persona
URL:https://cilentamente.info/event/pozzo-delluva-nera/
LOCATION:San Mauro Cilento\, San Mauro Cilento\, Salerno\, 84070\, Italia
CATEGORIES:Turistica
ATTACH;FMTTYPE=image/png:https://cilentamente.info/wp-content/uploads/2020/06/Pozzo-delluva-nera.png
ORGANIZER;CN="Cilentamente":MAILTO:cilentamente@gmail.com
END:VEVENT
BEGIN:VEVENT
DTSTART;VALUE=DATE:20200718
DTEND;VALUE=DATE:20200719
DTSTAMP:20260419T230714
CREATED:20200619T141059Z
LAST-MODIFIED:20200619T143420Z
UID:2019-1595030400-1595116799@cilentamente.info
SUMMARY:Piana delle Fate
DESCRIPTION:Percorso ad anello – Lunghezza km 9 circa – dislivello: 400 metri circa – difficoltà: escursionistica \nTempo complessivo: 5 ore circa \nSi consiglia: scarpe tecniche da trekking\, abbigliamento a strati\, giacca a vento\, eventuale ricambio\, impermeabile e bastoncini da trekking (suggeriti)\, 1\,5 lt di acqua a persona
URL:https://cilentamente.info/event/piana-delle-fate/
LOCATION:Pollica\, Pollica\, (SA)\, 84068\, Italia
CATEGORIES:Trekking
ATTACH;FMTTYPE=image/png:https://cilentamente.info/wp-content/uploads/2020/06/piana-delle-fate.png
ORGANIZER;CN="Cilentamente":MAILTO:cilentamente@gmail.com
END:VEVENT
BEGIN:VEVENT
DTSTART;VALUE=DATE:20200704
DTEND;VALUE=DATE:20200706
DTSTAMP:20260419T230714
CREATED:20200619T140515Z
LAST-MODIFIED:20200619T143035Z
UID:2017-1593820800-1593993599@cilentamente.info
SUMMARY:Monte della Stella
DESCRIPTION:Percorso ad anello 7\,5 km. Dislivello positivo 400 m. Difficoltà Escursionistica \nTempo complessivo 4 h 40 m \nTassativo : scarpe e bastoncini da trekking\, abbigliamento comodo a strati\, giacca antivento\,\nalmeno 1\,5 litri d’acqua a persona.
URL:https://cilentamente.info/event/monte-della-stella/
LOCATION:San Mauro Cilento\, San Mauro Cilento\, Salerno\, 84070\, Italia
CATEGORIES:Trekking
ATTACH;FMTTYPE=image/png:https://cilentamente.info/wp-content/uploads/2020/06/Monte-della-stella.png
ORGANIZER;CN="Cilentamente":MAILTO:cilentamente@gmail.com
END:VEVENT
BEGIN:VEVENT
DTSTART;VALUE=DATE:20200627
DTEND;VALUE=DATE:20200628
DTSTAMP:20260419T230714
CREATED:20200619T140352Z
LAST-MODIFIED:20200619T143319Z
UID:2015-1593216000-1593302399@cilentamente.info
SUMMARY:Colle della Sala
DESCRIPTION:Percorso andata e ritorno 6\,25 km. Dislivello positivo 200 m. Difficoltà Turistica\nTempo complessivo 3 h \nConsigliati : scarpe e bastoncini da trekking\, abbigliamento comodo a strati\, giacca antivento\,\ncappello e occhiali da sole\, almeno 1\,5 litri d’acqua a persona.
URL:https://cilentamente.info/event/colle-della-sala/
LOCATION:San Mauro Cilento\, San Mauro Cilento\, Salerno\, 84070\, Italia
CATEGORIES:Turistica
ATTACH;FMTTYPE=image/jpeg:https://cilentamente.info/wp-content/uploads/2020/06/Colle-della-sala.jpg
ORGANIZER;CN="Cilentamente":MAILTO:cilentamente@gmail.com
END:VEVENT
END:VCALENDAR